BEGIN:VCALENDAR
VERSION:2.0
PRODID:-//Stealth Robotics - ECPv6.15.20//NONSGML v1.0//EN
CALSCALE:GREGORIAN
METHOD:PUBLISH
X-ORIGINAL-URL:https://stealthrobotics.org
X-WR-CALDESC:Events for Stealth Robotics
REFRESH-INTERVAL;VALUE=DURATION:PT1H
X-Robots-Tag:noindex
X-PUBLISHED-TTL:PT1H
BEGIN:VTIMEZONE
TZID:America/Denver
BEGIN:DAYLIGHT
TZOFFSETFROM:-0700
TZOFFSETTO:-0600
TZNAME:MDT
DTSTART:20250309T090000
END:DAYLIGHT
BEGIN:STANDARD
TZOFFSETFROM:-0600
TZOFFSETTO:-0700
TZNAME:MST
DTSTART:20251102T080000
END:STANDARD
BEGIN:DAYLIGHT
TZOFFSETFROM:-0700
TZOFFSETTO:-0600
TZNAME:MDT
DTSTART:20260308T090000
END:DAYLIGHT
BEGIN:STANDARD
TZOFFSETFROM:-0600
TZOFFSETTO:-0700
TZNAME:MST
DTSTART:20261101T080000
END:STANDARD
BEGIN:DAYLIGHT
TZOFFSETFROM:-0700
TZOFFSETTO:-0600
TZNAME:MDT
DTSTART:20270314T090000
END:DAYLIGHT
BEGIN:STANDARD
TZOFFSETFROM:-0600
TZOFFSETTO:-0700
TZNAME:MST
DTSTART:20271107T080000
END:STANDARD
END:VTIMEZONE
BEGIN:VEVENT
DTSTART;TZID=America/Denver:20260110T083000
DTEND;TZID=America/Denver:20260110T123000
DTSTAMP:20260424T220049
CREATED:20260105T202057Z
LAST-MODIFIED:20260105T203355Z
UID:12995-1768033800-1768048200@stealthrobotics.org
SUMMARY:FRC REBUILT Game Reveal Watch Party
DESCRIPTION:
URL:https://stealthrobotics.org/event/2026-frc-rebuilt-game-reveal-watch-party/
LOCATION:Cedarcrest High School\, 29000 NE 150th St Duvall\, WA USA\, Duvall\, WA\, 98014\, United States
END:VEVENT
BEGIN:VEVENT
DTSTART;TZID=America/Denver:20260117T080000
DTEND;TZID=America/Denver:20260117T170000
DTSTAMP:20260424T220049
CREATED:20260105T201704Z
LAST-MODIFIED:20260105T201704Z
UID:12992-1768636800-1768669200@stealthrobotics.org
SUMMARY:FTC Asimov Super Qualifier
DESCRIPTION:Stealth’s Team Smelt 22152 will be competing for a chance to advance to the state competition.
URL:https://stealthrobotics.org/event/ftc-asimov-super-qualifier/
LOCATION:Tahoma High School\, 23499 SE Tahoma Way\, Maple Valley\, WA 98038\, Maple Valley\, WA\, 98038\, United States
END:VEVENT
BEGIN:VEVENT
DTSTART;TZID=America/Denver:20260131T080000
DTEND;TZID=America/Denver:20260131T170000
DTSTAMP:20260424T220049
CREATED:20260105T202632Z
LAST-MODIFIED:20260105T203553Z
UID:12998-1769846400-1769878800@stealthrobotics.org
SUMMARY:FTC WA State Championship
DESCRIPTION:
URL:https://stealthrobotics.org/event/ftc-wa-state-championship/
LOCATION:Amazon Doppler Building\, 2021 7th Ave\, Seattle\, WA\, 98121\, United States
END:VEVENT
BEGIN:VEVENT
DTSTART;VALUE=DATE:20260313
DTEND;VALUE=DATE:20260316
DTSTAMP:20260424T220049
CREATED:20260105T202817Z
LAST-MODIFIED:20260105T202817Z
UID:13000-1773360000-1773619199@stealthrobotics.org
SUMMARY:FRC PNW District Competition - Glacier Peak
DESCRIPTION:
URL:https://stealthrobotics.org/event/frc-pnw-district-competition-glacier-peak/
LOCATION:Glacier Peak High School\, 7401 144th Pl SE\, Snohomish\, WA\, 98296\, United States
END:VEVENT
BEGIN:VEVENT
DTSTART;VALUE=DATE:20260327
DTEND;VALUE=DATE:20260330
DTSTAMP:20260424T220049
CREATED:20260105T203051Z
LAST-MODIFIED:20260105T203632Z
UID:13003-1774569600-1774828799@stealthrobotics.org
SUMMARY:FRC PNW District Competition - Auburn
DESCRIPTION:
URL:https://stealthrobotics.org/event/frc-pnw-district-competition-auburn/
LOCATION:Auburn High School\, 711 E Main Street\, Auburn\, WA\, United States
END:VEVENT
BEGIN:VEVENT
DTSTART;VALUE=DATE:20260408
DTEND;VALUE=DATE:20260412
DTSTAMP:20260424T220049
CREATED:20260105T203207Z
LAST-MODIFIED:20260105T203207Z
UID:13006-1775606400-1775951999@stealthrobotics.org
SUMMARY:FRC PNW District Championship
DESCRIPTION:
URL:https://stealthrobotics.org/event/frc-pnw-district-championship/
LOCATION:Eastern Washington University\, Reese Court\, 526 5th St.\, Cheney\, WA\, 99005\, United States
END:VEVENT
BEGIN:VEVENT
DTSTART;VALUE=DATE:20260429
DTEND;VALUE=DATE:20260503
DTSTAMP:20260424T220049
CREATED:20260408T171710Z
LAST-MODIFIED:20260408T171829Z
UID:13360-1777420800-1777766399@stealthrobotics.org
SUMMARY:FIRST Robotics Competition World Championship
DESCRIPTION:
URL:https://stealthrobotics.org/event/first-championship-first-robotics-competition/
LOCATION:George R. Brown Convention Center\, 1001 Avenida De Las Americas\, Houston\, TX\, United States
END:VEVENT
END:VCALENDAR